BEGIN:VCALENDAR
VERSION:2.0
PRODID:-//TENISO MEKA - ECPv6.0.13//NONSGML v1.0//EN
CALSCALE:GREGORIAN
METHOD:PUBLISH
X-WR-CALNAME:TENISO MEKA
X-ORIGINAL-URL:https://tenisomeka.lt
X-WR-CALDESC:Events for TENISO MEKA
REFRESH-INTERVAL;VALUE=DURATION:PT1H
X-Robots-Tag:noindex
X-PUBLISHED-TTL:PT1H
BEGIN:VTIMEZONE
TZID:Europe/Athens
BEGIN:DAYLIGHT
TZOFFSETFROM:+0200
TZOFFSETTO:+0300
TZNAME:EEST
DTSTART:20230326T010000
END:DAYLIGHT
BEGIN:STANDARD
TZOFFSETFROM:+0300
TZOFFSETTO:+0200
TZNAME:EET
DTSTART:20231029T010000
END:STANDARD
END:VTIMEZONE
BEGIN:VEVENT
DTSTART;TZID=Europe/Athens:20230908T170000
DTEND;TZID=Europe/Athens:20230909T180000
DTSTAMP:20260422T112633
CREATED:20230828T115139Z
LAST-MODIFIED:20230908T090726Z
UID:10000003-1694192400-1694282400@tenisomeka.lt
SUMMARY:Marijampolės Teniso Sezono Uždarymo Turnyras
DESCRIPTION:
URL:https://tenisomeka.lt/turnyrai/marijampoles-teniso-sezono-uzdarymo-turnyras/
END:VEVENT
END:VCALENDAR