BEGIN:VCALENDAR
VERSION:2.0
PRODID:-//TENISO MEKA - ECPv6.0.13//NONSGML v1.0//EN
CALSCALE:GREGORIAN
METHOD:PUBLISH
X-ORIGINAL-URL:https://tenisomeka.lt
X-WR-CALDESC:Events for TENISO MEKA
REFRESH-INTERVAL;VALUE=DURATION:PT1H
X-Robots-Tag:noindex
X-PUBLISHED-TTL:PT1H
BEGIN:VTIMEZONE
TZID:Europe/Athens
BEGIN:DAYLIGHT
TZOFFSETFROM:+0200
TZOFFSETTO:+0300
TZNAME:EEST
DTSTART:20230326T010000
END:DAYLIGHT
BEGIN:STANDARD
TZOFFSETFROM:+0300
TZOFFSETTO:+0200
TZNAME:EET
DTSTART:20231029T010000
END:STANDARD
BEGIN:DAYLIGHT
TZOFFSETFROM:+0200
TZOFFSETTO:+0300
TZNAME:EEST
DTSTART:20240331T010000
END:DAYLIGHT
BEGIN:STANDARD
TZOFFSETFROM:+0300
TZOFFSETTO:+0200
TZNAME:EET
DTSTART:20241027T010000
END:STANDARD
END:VTIMEZONE
BEGIN:VEVENT
DTSTART;TZID=Europe/Athens:20231016T000000
DTEND;TZID=Europe/Athens:20240427T000000
DTSTAMP:20260421T165841
CREATED:20231006T112144Z
LAST-MODIFIED:20231015T184844Z
UID:10000005-1697414400-1714176000@tenisomeka.lt
SUMMARY:"XS Sport Žiema 2023" tęstinis reitinginis teniso turnyras
DESCRIPTION:
URL:https://tenisomeka.lt/turnyrai/xs-sport-ziema-2023-testinis-reitinginis-teniso-turnyras/
END:VEVENT
END:VCALENDAR