BEGIN:VCALENDAR
VERSION:2.0
PRODID:-//TENISO MEKA - ECPv6.0.13//NONSGML v1.0//EN
CALSCALE:GREGORIAN
METHOD:PUBLISH
X-ORIGINAL-URL:https://tenisomeka.lt
X-WR-CALDESC:Events for TENISO MEKA
REFRESH-INTERVAL;VALUE=DURATION:PT1H
X-Robots-Tag:noindex
X-PUBLISHED-TTL:PT1H
BEGIN:VTIMEZONE
TZID:Europe/Athens
BEGIN:DAYLIGHT
TZOFFSETFROM:+0200
TZOFFSETTO:+0300
TZNAME:EEST
DTSTART:20240331T010000
END:DAYLIGHT
BEGIN:STANDARD
TZOFFSETFROM:+0300
TZOFFSETTO:+0200
TZNAME:EET
DTSTART:20241027T010000
END:STANDARD
BEGIN:DAYLIGHT
TZOFFSETFROM:+0200
TZOFFSETTO:+0300
TZNAME:EEST
DTSTART:20250330T010000
END:DAYLIGHT
BEGIN:STANDARD
TZOFFSETFROM:+0300
TZOFFSETTO:+0200
TZNAME:EET
DTSTART:20251026T010000
END:STANDARD
END:VTIMEZONE
BEGIN:VEVENT
DTSTART;TZID=Europe/Athens:20241014T080000
DTEND;TZID=Europe/Athens:20250419T170000
DTSTAMP:20260421T044845
CREATED:20241006T203119Z
LAST-MODIFIED:20241014T121423Z
UID:10000009-1728892800-1745082000@tenisomeka.lt
SUMMARY:Žiemos tęstinis reitinginis teniso turnyras "ACTIVUS TAURĖ 2024"
DESCRIPTION:
URL:https://tenisomeka.lt/turnyrai/ziemos-testinis-reitinginis-teniso-turnyras-activus-taure-2024/
ORGANIZER;CN="Robertas%20Blagu%C5%A1auskas":MAILTO:tenisomeka@gmail.com
END:VEVENT
END:VCALENDAR