BEGIN:VCALENDAR
VERSION:2.0
PRODID:-//TENISO MEKA - ECPv6.0.13//NONSGML v1.0//EN
CALSCALE:GREGORIAN
METHOD:PUBLISH
X-WR-CALNAME:TENISO MEKA
X-ORIGINAL-URL:https://tenisomeka.lt
X-WR-CALDESC:Events for TENISO MEKA
REFRESH-INTERVAL;VALUE=DURATION:PT1H
X-Robots-Tag:noindex
X-PUBLISHED-TTL:PT1H
BEGIN:VTIMEZONE
TZID:Europe/Athens
BEGIN:DAYLIGHT
TZOFFSETFROM:+0200
TZOFFSETTO:+0300
TZNAME:EEST
DTSTART:20240331T010000
END:DAYLIGHT
BEGIN:STANDARD
TZOFFSETFROM:+0300
TZOFFSETTO:+0200
TZNAME:EET
DTSTART:20241027T010000
END:STANDARD
BEGIN:DAYLIGHT
TZOFFSETFROM:+0200
TZOFFSETTO:+0300
TZNAME:EEST
DTSTART:20250330T010000
END:DAYLIGHT
BEGIN:STANDARD
TZOFFSETFROM:+0300
TZOFFSETTO:+0200
TZNAME:EET
DTSTART:20251026T010000
END:STANDARD
BEGIN:DAYLIGHT
TZOFFSETFROM:+0200
TZOFFSETTO:+0300
TZNAME:EEST
DTSTART:20260329T010000
END:DAYLIGHT
BEGIN:STANDARD
TZOFFSETFROM:+0300
TZOFFSETTO:+0200
TZNAME:EET
DTSTART:20261025T010000
END:STANDARD
END:VTIMEZONE
BEGIN:VEVENT
DTSTART;TZID=Europe/Athens:20241014T080000
DTEND;TZID=Europe/Athens:20250419T170000
DTSTAMP:20260421T075943
CREATED:20241006T203119Z
LAST-MODIFIED:20241014T121423Z
UID:10000009-1728892800-1745082000@tenisomeka.lt
SUMMARY:Žiemos tęstinis reitinginis teniso turnyras "ACTIVUS TAURĖ 2024"
DESCRIPTION:
URL:https://tenisomeka.lt/turnyrai/ziemos-testinis-reitinginis-teniso-turnyras-activus-taure-2024/
ORGANIZER;CN="Robertas%20Blagu%C5%A1auskas":MAILTO:tenisomeka@gmail.com
END:VEVENT
BEGIN:VEVENT
DTSTART;VALUE=DATE:20241214
DTEND;VALUE=DATE:20241215
DTSTAMP:20260421T075943
CREATED:20241103T062003Z
LAST-MODIFIED:20241103T062850Z
UID:10000010-1734134400-1734220799@tenisomeka.lt
SUMMARY:"KALĖDINIS BLITZ" TENISO TURNYRAS 2024
DESCRIPTION:
URL:https://tenisomeka.lt/turnyrai/kaledinis-blitz-teniso-turnyras-2024/
ORGANIZER;CN="Robertas%20Blagu%C5%A1auskas":MAILTO:tenisomeka@gmail.com
END:VEVENT
BEGIN:VEVENT
DTSTART;VALUE=DATE:20250602
DTEND;VALUE=DATE:20250818
DTSTAMP:20260421T075943
CREATED:20250526T083955Z
LAST-MODIFIED:20250609T124006Z
UID:10000013-1748851200-1755450000@tenisomeka.lt
SUMMARY:Vasaros Tęstinis Reitinginis Teniso Turnyras
DESCRIPTION:
URL:https://tenisomeka.lt/turnyrai/vasaros-testinis-reitinginis-teniso-turnyras/
LOCATION:Marijampolės teniso aikštynas\, Mokolų g.69b\, Marijampolė\, Lietuva
ORGANIZER;CN="Robertas%20Blagu%C5%A1auskas":MAILTO:tenisomeka@gmail.com
END:VEVENT
BEGIN:VEVENT
DTSTART;VALUE=DATE:20250613
DTEND;VALUE=DATE:20250616
DTSTAMP:20260421T075943
CREATED:20250514T151011Z
LAST-MODIFIED:20250529T090606Z
UID:10000012-1749772800-1750031999@tenisomeka.lt
SUMMARY:Teniso Sezono Atidarymo Turnyras 2025
DESCRIPTION:
URL:https://tenisomeka.lt/turnyrai/teniso-sezono-atidarymo-turnyras-2025/
LOCATION:Marijampolės teniso aikštynas\, Mokolų g.69b\, Marijampolė\, Lietuva
END:VEVENT
BEGIN:VEVENT
DTSTART;TZID=Europe/Athens:20250905T170000
DTEND;TZID=Europe/Athens:20250907T120000
DTSTAMP:20260421T075943
CREATED:20250823T111632Z
LAST-MODIFIED:20250823T111937Z
UID:10000014-1757091600-1757246400@tenisomeka.lt
SUMMARY:Vienetų Reitinginis "Teniso Sezono Uždarymo Turnyras 2025"
DESCRIPTION:
URL:https://tenisomeka.lt/turnyrai/vienetu-reitinginis-teniso-sezono-uzdarymo-turnyras-2025/
LOCATION:Marijampolės teniso aikštynas\, Mokolų g.69b\, Marijampolė\, Lietuva
END:VEVENT
BEGIN:VEVENT
DTSTART;TZID=Europe/Athens:20251006T080000
DTEND;TZID=Europe/Athens:20260426T170000
DTSTAMP:20260421T075943
CREATED:20250930T094151Z
LAST-MODIFIED:20251007T053047Z
UID:10000015-1759737600-1777222800@tenisomeka.lt
SUMMARY:Žiemos tęstinis reitinginis teniso turnyras 2025/2026
DESCRIPTION:
URL:https://tenisomeka.lt/turnyrai/ziemos-testinis-reitinginis-teniso-turnyras-2025-2026/
END:VEVENT
END:VCALENDAR